BEGIN:VCALENDAR
VERSION:2.0
PRODID:-//UCLA - CDU | CFAR - ECPv6.15.16.1//NONSGML v1.0//EN
CALSCALE:GREGORIAN
METHOD:PUBLISH
X-ORIGINAL-URL:https://cfar.ucla-cdu.org
X-WR-CALDESC:Events for UCLA - CDU | CFAR
REFRESH-INTERVAL;VALUE=DURATION:PT1H
X-Robots-Tag:noindex
X-PUBLISHED-TTL:PT1H
BEGIN:VTIMEZONE
TZID:America/Los_Angeles
BEGIN:DAYLIGHT
TZOFFSETFROM:-0800
TZOFFSETTO:-0700
TZNAME:PDT
DTSTART:20230312T100000
END:DAYLIGHT
BEGIN:STANDARD
TZOFFSETFROM:-0700
TZOFFSETTO:-0800
TZNAME:PST
DTSTART:20231105T090000
END:STANDARD
BEGIN:DAYLIGHT
TZOFFSETFROM:-0800
TZOFFSETTO:-0700
TZNAME:PDT
DTSTART:20240310T100000
END:DAYLIGHT
BEGIN:STANDARD
TZOFFSETFROM:-0700
TZOFFSETTO:-0800
TZNAME:PST
DTSTART:20241103T090000
END:STANDARD
BEGIN:DAYLIGHT
TZOFFSETFROM:-0800
TZOFFSETTO:-0700
TZNAME:PDT
DTSTART:20250309T100000
END:DAYLIGHT
BEGIN:STANDARD
TZOFFSETFROM:-0700
TZOFFSETTO:-0800
TZNAME:PST
DTSTART:20251102T090000
END:STANDARD
END:VTIMEZONE
BEGIN:VEVENT
DTSTART;TZID=America/Los_Angeles:20240506T080000
DTEND;TZID=America/Los_Angeles:20240506T140000
DTSTAMP:20260423T041236
CREATED:20240311T201725Z
LAST-MODIFIED:20240426T064256Z
UID:27273-1714982400-1715004000@cfar.ucla-cdu.org
SUMMARY:REGISTER TODAY! UCLA-CDU CFAR 1st Annual AIDS Scientific Symposium
DESCRIPTION:Monday May 6\, 2024 8am to 2pm \nMLK Behavioral Health Center\n12021 Wilmington Avenue\, Building 18 Los Angeles\, CA 90059 \nUnlocking Innovation: Exploring CFAR’s Funding Opportunities and Services.\nIntroduction and spotlight on the UCLA-CDU Center for AIDS Research (CFAR) program\, with an emphasis on the array of funding opportunities and support services.
URL:https://cfar.ucla-cdu.org/event/ucla-cdu-cfar-annual-aids-scientific-symposium/
LOCATION:MLK Behavioral Health Center\, 12021 Wilmington Avenue\, BLDG 18\, Los Angeles\, 90059\, United States
CATEGORIES:Symposium / Conference / Workshop
ATTACH;FMTTYPE=image/jpeg:https://cfar.ucla-cdu.org/wp-content/uploads/2024/04/2024.05.06-CFARSymposium-Register-Now.jpg
ORGANIZER;CN="UCLA-CDU CFAR":MAILTO:UCLA-CDU.CFAR@mednet.ucla.edu
END:VEVENT
BEGIN:VEVENT
DTSTART;TZID=America/Los_Angeles:20240530T120000
DTEND;TZID=America/Los_Angeles:20240530T130000
DTSTAMP:20260423T041236
CREATED:20240501T150044Z
LAST-MODIFIED:20240522T213651Z
UID:27431-1717070400-1717074000@cfar.ucla-cdu.org
SUMMARY:“Introduction to Implementation Science- Session 1 of 3” on May 30\, 2024
DESCRIPTION:“Introduction to Implementation Science”.\nCo-sponsored by the NYU Global Center for Implementation Science (GCIS).
URL:https://cfar.ucla-cdu.org/event/introduction-to-implementation-science-on-may-30-2024/
LOCATION:CA
CATEGORIES:Symposium / Conference / Workshop
END:VEVENT
END:VCALENDAR